BEGIN:VCALENDAR
VERSION:2.0
PRODID:-//Texas State Genealogical Society - ECPv6.15.20//NONSGML v1.0//EN
CALSCALE:GREGORIAN
METHOD:PUBLISH
X-WR-CALNAME:Texas State Genealogical Society
X-ORIGINAL-URL:https://www.txsgs.org
X-WR-CALDESC:Events for Texas State Genealogical Society
REFRESH-INTERVAL;VALUE=DURATION:PT1H
X-Robots-Tag:noindex
X-PUBLISHED-TTL:PT1H
BEGIN:VTIMEZONE
TZID:America/Chicago
BEGIN:DAYLIGHT
TZOFFSETFROM:-0600
TZOFFSETTO:-0500
TZNAME:CDT
DTSTART:20230312T080000
END:DAYLIGHT
BEGIN:STANDARD
TZOFFSETFROM:-0500
TZOFFSETTO:-0600
TZNAME:CST
DTSTART:20231105T070000
END:STANDARD
BEGIN:DAYLIGHT
TZOFFSETFROM:-0600
TZOFFSETTO:-0500
TZNAME:CDT
DTSTART:20240310T080000
END:DAYLIGHT
BEGIN:STANDARD
TZOFFSETFROM:-0500
TZOFFSETTO:-0600
TZNAME:CST
DTSTART:20241103T070000
END:STANDARD
BEGIN:DAYLIGHT
TZOFFSETFROM:-0600
TZOFFSETTO:-0500
TZNAME:CDT
DTSTART:20250309T080000
END:DAYLIGHT
BEGIN:STANDARD
TZOFFSETFROM:-0500
TZOFFSETTO:-0600
TZNAME:CST
DTSTART:20251102T070000
END:STANDARD
END:VTIMEZONE
BEGIN:VEVENT
DTSTART;VALUE=DATE:20240608
DTEND;VALUE=DATE:20240609
DTSTAMP:20260420T003024
CREATED:20240508T122503Z
LAST-MODIFIED:20240508T125400Z
UID:28428-1717804800-1717891199@www.txsgs.org
SUMMARY:"You Have Your Ancestry.com Results - Now What?"
DESCRIPTION:Genetic Genealogy Basics – We will go over the fundamentals of DNA testing\, introduce a few terms and explain why siblings can have widely different ethnicity estimates.\nAncestry.com Tools & Resources – Introduces all of the features and capabilities provided by Ancestry.com to help you explore your DNA results.\nBreak-Out Groups – We will have knowledgeable personnel on hand to help you explore your DNA results on Ancestry.com\nOther DNA Testing Sites – Other testing platforms and types of tests that you may want to investigate.\n\nLocation\nJoin us live in the 7th Floor O’Hara room at the Dallas Public Library or online on Zoom. \nCost\nDGS Member:  $15 through May 19; $20 after May 19 \nNon-Member:  $20 through May 19; $25 after May 19 \nLearn more . . . 
URL:https://www.txsgs.org/event/you-have-your-ancestry-com-results-now-what/
LOCATION:Dallas Public Library and Virtual\, 1515 Young Street\, Dallas\, TX\, United States
CATEGORIES:Class,Hybrid
ATTACH;FMTTYPE=image/jpeg:https://www.txsgs.org/wp-content/uploads/2024/05/Facebook-Post-2024-DGS-DNA-Workshop-1200-x-628.jpg
END:VEVENT
END:VCALENDAR