BEGIN:VCALENDAR
VERSION:2.0
PRODID:-//Texas State Genealogical Society - ECPv6.15.20//NONSGML v1.0//EN
CALSCALE:GREGORIAN
METHOD:PUBLISH
X-ORIGINAL-URL:https://www.txsgs.org
X-WR-CALDESC:Events for Texas State Genealogical Society
REFRESH-INTERVAL;VALUE=DURATION:PT1H
X-Robots-Tag:noindex
X-PUBLISHED-TTL:PT1H
BEGIN:VTIMEZONE
TZID:America/Chicago
BEGIN:DAYLIGHT
TZOFFSETFROM:-0600
TZOFFSETTO:-0500
TZNAME:CDT
DTSTART:20230312T080000
END:DAYLIGHT
BEGIN:STANDARD
TZOFFSETFROM:-0500
TZOFFSETTO:-0600
TZNAME:CST
DTSTART:20231105T070000
END:STANDARD
BEGIN:DAYLIGHT
TZOFFSETFROM:-0600
TZOFFSETTO:-0500
TZNAME:CDT
DTSTART:20240310T080000
END:DAYLIGHT
BEGIN:STANDARD
TZOFFSETFROM:-0500
TZOFFSETTO:-0600
TZNAME:CST
DTSTART:20241103T070000
END:STANDARD
BEGIN:DAYLIGHT
TZOFFSETFROM:-0600
TZOFFSETTO:-0500
TZNAME:CDT
DTSTART:20250309T080000
END:DAYLIGHT
BEGIN:STANDARD
TZOFFSETFROM:-0500
TZOFFSETTO:-0600
TZNAME:CST
DTSTART:20251102T070000
END:STANDARD
END:VTIMEZONE
BEGIN:VEVENT
DTSTART;VALUE=DATE:20240928
DTEND;VALUE=DATE:20240929
DTSTAMP:20260421T154009
CREATED:20240203T214328Z
LAST-MODIFIED:20240508T121107Z
UID:28171-1727481600-1727567999@www.txsgs.org
SUMMARY:"Autosomal Analysis: Tools for Finding Your Ancestors" with Blaine Bettinger
DESCRIPTION:  \nDallas Genealogical Society is proud to present Blaine Bettinger as our speaker at the Fall Seminar on September 28\, 2024. \nHis topic will be Autosomal Analysis: Tools for Finding Your Ancestors.  It will be a hybrid event. \nEarly Bird rates in effect through September 8. For more info\, visit the DGS website at dallasgenealogy.org/
URL:https://www.txsgs.org/event/autosomal-analysis-tools-for-finding-your-ancestors-with-blaine-bettinger/
LOCATION:Dallas Public Library and Virtual\, 1515 Young Street\, Dallas\, TX\, United States
CATEGORIES:Hybrid,Single Day
END:VEVENT
END:VCALENDAR