BEGIN:VCALENDAR
VERSION:2.0
PRODID:-//Texas State Genealogical Society - ECPv6.15.20//NONSGML v1.0//EN
CALSCALE:GREGORIAN
METHOD:PUBLISH
X-ORIGINAL-URL:https://www.txsgs.org
X-WR-CALDESC:Events for Texas State Genealogical Society
REFRESH-INTERVAL;VALUE=DURATION:PT1H
X-Robots-Tag:noindex
X-PUBLISHED-TTL:PT1H
BEGIN:VTIMEZONE
TZID:America/Chicago
BEGIN:DAYLIGHT
TZOFFSETFROM:-0600
TZOFFSETTO:-0500
TZNAME:CDT
DTSTART:20240310T080000
END:DAYLIGHT
BEGIN:STANDARD
TZOFFSETFROM:-0500
TZOFFSETTO:-0600
TZNAME:CST
DTSTART:20241103T070000
END:STANDARD
BEGIN:DAYLIGHT
TZOFFSETFROM:-0600
TZOFFSETTO:-0500
TZNAME:CDT
DTSTART:20250309T080000
END:DAYLIGHT
BEGIN:STANDARD
TZOFFSETFROM:-0500
TZOFFSETTO:-0600
TZNAME:CST
DTSTART:20251102T070000
END:STANDARD
BEGIN:DAYLIGHT
TZOFFSETFROM:-0600
TZOFFSETTO:-0500
TZNAME:CDT
DTSTART:20260308T080000
END:DAYLIGHT
BEGIN:STANDARD
TZOFFSETFROM:-0500
TZOFFSETTO:-0600
TZNAME:CST
DTSTART:20261101T070000
END:STANDARD
END:VTIMEZONE
BEGIN:VEVENT
DTSTART;VALUE=DATE:20250412
DTEND;VALUE=DATE:20250413
DTSTAMP:20260421T112942
CREATED:20250205T173119Z
LAST-MODIFIED:20250205T175023Z
UID:29619-1744416000-1744502399@www.txsgs.org
SUMMARY:2025 CAPROCK Genealogy Conference
DESCRIPTION:Download flyer and registration form \nFeatured Speaker for the 2025 Caprock Genealogy Conference is John A. Sellers\, a fifth generation native to Hopkins County\, Texas. A graduate of Texas Tech University\, he has been doing genealogical research since 1985. His favorite area of research is in the courthouse. \nTopics for the four interactive sessions he will be conducting at the Caprock Genealogy Conference in Plainview this year are:\n\nYour Ancestor’s Own Cousin\, other Relations\, and their Value to Your Research\nWhat’s Hidden in Courthouse Records?\nOn The Road Again – Finding Genealogical Gems at Your Ancestral Home\nWas Grandpa His Brother’s Keeper?\n\nMore complete description of the sessions is available at the Caprock Genealogy Conference website\, https://caprockconference.org/info/  \nRegistration Open until February 25 is $55 (early bird); February 25 through April 7 is $60.\nhttps://www.caprockconference.org/register
URL:https://www.txsgs.org/event/2025-caprock-genealogy-conference/
LOCATION:Plainview Country Club\, 2902 4th Street\, Plainview\, TX\, 79072\, United States
CATEGORIES:Single Day
ORGANIZER;CN="South Plains Genealogical Society":MAILTO:spgsnews@gmail.com
END:VEVENT
END:VCALENDAR