BEGIN:VCALENDAR
VERSION:2.0
PRODID:-//Texas State Genealogical Society - ECPv6.15.20//NONSGML v1.0//EN
CALSCALE:GREGORIAN
METHOD:PUBLISH
X-ORIGINAL-URL:https://www.txsgs.org
X-WR-CALDESC:Events for Texas State Genealogical Society
REFRESH-INTERVAL;VALUE=DURATION:PT1H
X-Robots-Tag:noindex
X-PUBLISHED-TTL:PT1H
BEGIN:VTIMEZONE
TZID:America/Chicago
BEGIN:DAYLIGHT
TZOFFSETFROM:-0600
TZOFFSETTO:-0500
TZNAME:CDT
DTSTART:20240310T080000
END:DAYLIGHT
BEGIN:STANDARD
TZOFFSETFROM:-0500
TZOFFSETTO:-0600
TZNAME:CST
DTSTART:20241103T070000
END:STANDARD
BEGIN:DAYLIGHT
TZOFFSETFROM:-0600
TZOFFSETTO:-0500
TZNAME:CDT
DTSTART:20250309T080000
END:DAYLIGHT
BEGIN:STANDARD
TZOFFSETFROM:-0500
TZOFFSETTO:-0600
TZNAME:CST
DTSTART:20251102T070000
END:STANDARD
BEGIN:DAYLIGHT
TZOFFSETFROM:-0600
TZOFFSETTO:-0500
TZNAME:CDT
DTSTART:20260308T080000
END:DAYLIGHT
BEGIN:STANDARD
TZOFFSETFROM:-0500
TZOFFSETTO:-0600
TZNAME:CST
DTSTART:20261101T070000
END:STANDARD
END:VTIMEZONE
BEGIN:VEVENT
DTSTART;TZID=America/Chicago:20250906T093000
DTEND;TZID=America/Chicago:20250906T153000
DTSTAMP:20260419T110058
CREATED:20250724T013030Z
LAST-MODIFIED:20250724T013056Z
UID:30141-1757151000-1757172600@www.txsgs.org
SUMMARY:Fall 2025 Genealogy Seminar with Diana Elder\, AG\, AGL
DESCRIPTION:9:30 am to 3:30 pm\nRidglea Country Club\, 3700 Bernie Anderson Ave.\, Fort Worth\, TX 76116\n\n\nThe Fall Seminar with Diana Elder includes sessions on \n*Understanding AI in Genealogy: Foundations & Tools\n*Navigating the Unique Texas Land Grant System\n*Undering Evidence Analysis in a Timeline to Separate Individuals of the Same Name\n*Burned Courthoouses and Flooded Churches\n\n\nDownload: 2025 Fall Seminar
URL:https://www.txsgs.org/event/fall-2025-genealogy-seminar-with-diana-elder-ag-agl/
LOCATION:Ridglea Country Club\, 3700 Bernie Anderson Ave.\, Fort Worth\, Texa\, 76116
CATEGORIES:Single Day
ATTACH;FMTTYPE=image/png:https://www.txsgs.org/wp-content/uploads/2025/07/Elder-Seminar-FWGS-Sept6-2025-scaled.png
END:VEVENT
END:VCALENDAR