BEGIN:VCALENDAR
VERSION:2.0
PRODID:-//Texas State Genealogical Society - ECPv6.15.20//NONSGML v1.0//EN
CALSCALE:GREGORIAN
METHOD:PUBLISH
X-WR-CALNAME:Texas State Genealogical Society
X-ORIGINAL-URL:https://www.txsgs.org
X-WR-CALDESC:Events for Texas State Genealogical Society
REFRESH-INTERVAL;VALUE=DURATION:PT1H
X-Robots-Tag:noindex
X-PUBLISHED-TTL:PT1H
BEGIN:VTIMEZONE
TZID:America/Chicago
BEGIN:DAYLIGHT
TZOFFSETFROM:-0600
TZOFFSETTO:-0500
TZNAME:CDT
DTSTART:20240310T080000
END:DAYLIGHT
BEGIN:STANDARD
TZOFFSETFROM:-0500
TZOFFSETTO:-0600
TZNAME:CST
DTSTART:20241103T070000
END:STANDARD
BEGIN:DAYLIGHT
TZOFFSETFROM:-0600
TZOFFSETTO:-0500
TZNAME:CDT
DTSTART:20250309T080000
END:DAYLIGHT
BEGIN:STANDARD
TZOFFSETFROM:-0500
TZOFFSETTO:-0600
TZNAME:CST
DTSTART:20251102T070000
END:STANDARD
BEGIN:DAYLIGHT
TZOFFSETFROM:-0600
TZOFFSETTO:-0500
TZNAME:CDT
DTSTART:20260308T080000
END:DAYLIGHT
BEGIN:STANDARD
TZOFFSETFROM:-0500
TZOFFSETTO:-0600
TZNAME:CST
DTSTART:20261101T070000
END:STANDARD
END:VTIMEZONE
BEGIN:VEVENT
DTSTART;TZID=America/Chicago:20250113T080000
DTEND;TZID=America/Chicago:20250113T170000
DTSTAMP:20260421T155847
CREATED:20241216T160526Z
LAST-MODIFIED:20241216T160731Z
UID:29533-1736755200-1736787600@www.txsgs.org
SUMMARY:TxSGS Genealogy Essentials
DESCRIPTION:The Texas State Genealogical Society (TxSGS) is pleased to announce the launch of its new online education program\, “Genealogy Essentials\,” designed specifically for individuals interested in beginning or expanding their family history research skills and dedicated to “Building a Strong Foundation for Family History.” \nDownload Topics and Schedule \nThis first offering in this program is a comprehensive\, eight-session curriculum that will be released over four weeks starting January 13\, 2025\, with two sessions made available each week. Participants can access the video-based lessons at their convenience\, complete practical homework assignments\, and engage in guided Zoom discussions with expert instructors each Saturday. For those who are unable to attend live Zoom sessions\, recordings will be provided. \nVisit the TxSGS website for more information. \n\nTopic Descriptions and Speakers\nSpeaker Biographies\nPricing and Registration Information\nWhat to Expect\nQuestions: genessentials@txsgs.org
URL:https://www.txsgs.org/event/txsgs-genealogy-essentials/
LOCATION:Virtual Event via Zoom
CATEGORIES:Multiple Day,Virtual
END:VEVENT
END:VCALENDAR