BEGIN:VCALENDAR
VERSION:2.0
PRODID:-//Texas State Genealogical Society - ECPv6.15.20//NONSGML v1.0//EN
CALSCALE:GREGORIAN
METHOD:PUBLISH
X-WR-CALNAME:Texas State Genealogical Society
X-ORIGINAL-URL:https://www.txsgs.org
X-WR-CALDESC:Events for Texas State Genealogical Society
REFRESH-INTERVAL;VALUE=DURATION:PT1H
X-Robots-Tag:noindex
X-PUBLISHED-TTL:PT1H
BEGIN:VTIMEZONE
TZID:America/Chicago
BEGIN:DAYLIGHT
TZOFFSETFROM:-0600
TZOFFSETTO:-0500
TZNAME:CDT
DTSTART:20240310T080000
END:DAYLIGHT
BEGIN:STANDARD
TZOFFSETFROM:-0500
TZOFFSETTO:-0600
TZNAME:CST
DTSTART:20241103T070000
END:STANDARD
BEGIN:DAYLIGHT
TZOFFSETFROM:-0600
TZOFFSETTO:-0500
TZNAME:CDT
DTSTART:20250309T080000
END:DAYLIGHT
BEGIN:STANDARD
TZOFFSETFROM:-0500
TZOFFSETTO:-0600
TZNAME:CST
DTSTART:20251102T070000
END:STANDARD
BEGIN:DAYLIGHT
TZOFFSETFROM:-0600
TZOFFSETTO:-0500
TZNAME:CDT
DTSTART:20260308T080000
END:DAYLIGHT
BEGIN:STANDARD
TZOFFSETFROM:-0500
TZOFFSETTO:-0600
TZNAME:CST
DTSTART:20261101T070000
END:STANDARD
END:VTIMEZONE
BEGIN:VEVENT
DTSTART;VALUE=DATE:20251025
DTEND;VALUE=DATE:20251026
DTSTAMP:20260419T091733
CREATED:20250902T225651Z
LAST-MODIFIED:20250902T230158Z
UID:30362-1761350400-1761436799@www.txsgs.org
SUMMARY:Strategies for DNA Breakthroughs
DESCRIPTION:October 25\, 2025 \nOur Speaker: Kelli Jo Bergheimer\nKelli is a writer\, teacher\, editor\, author\, and international genealogical speaker. Kelli holds a Bachelor’s in Biology\, a Master’s in Education: Curriculum and Instruction\, and a Master’s in Business Management. Kelli is the Director of Education for Your DNA Guide. Kelli runs a small business—Mess on the Desk\, a genealogical organization company with a YouTube channel. Kelli is a member of the Association of Professional Genealogists. \nSession Information\n\nSuccessful Sleuthing\, Not Stalking\, for DNA Matches – Have you tried to figure out who some of your DNA matches are but struggle to make progress? Learn to use some free websites\, newspapers\, and social media to identify some of those people you don’t know in your match list.\nAncestry Pro Tools: Increase Your DNA Analysis – Ancestry’s new Pro Tools can increase your ability to analyze your DNA matches. New filters have been added to enhance your DNA sorting. Colored dots have expanded. And the Enhanced shared matches tool is giving us another level of insight into our matches by showing us how our matches share DNA with each other. Learn strategies to apply this tool to your genetic networks.\nThe Power of Ancestry Clusters and Inferred Matching – Learn how to use clusters in a strategic way to identify your DNA matches and their shared ancestral line. Ancestry’s new Cluster Tool is a powerful visual way to group matches. Broaden your genetic network for an ancestral line by including inferred matching in your analysis.\nThe Tale of Two Grandfathers and an Adoption – Privacy and Ethical Concerns with DNA – Come hear privacy and ethical considerations within three DNA case studies–a case of grey adoption in the 1950s\, a surprise grandfather\, and a decades-long hunt for an unknown grandfather. What should you consider? How can you or should you document findings? And who’s story is it to tell?\n\n\n\nLocation & Recordings\nJoin Kelli live at the Dallas Public Library or online on Zoom. \n\nFree parking is available under the library (enter the parking garage from Wood Street).\nA link to the syllabus (in PDF format) will be provided when you register.\n\nThe Syllabus materials will not be finalized until Sunday\, October 5.\nWe will not be providing a printed version at the event.\n\n\nA link (and the password required to access it) to the Session recordings page will be provided when you register.\n\nRecordings will be available from Sunday October 26 through Sunday November 9\, 2025.\n\n\nA link to register with Zoom will be provided when you register if you prefer to participate virtually.
URL:https://www.txsgs.org/event/strategies-for-dna-breakthroughs/
LOCATION:Dallas Public Library and Virtual\, 1515 Young Street\, Dallas\, TX\, United States
CATEGORIES:Single Day,Virtual
ATTACH;FMTTYPE=image/jpeg:https://www.txsgs.org/wp-content/uploads/2025/09/INSTAGRAM-POST-2025-Bergheimer-1080-x-1080-e1756854034555.jpg
END:VEVENT
END:VCALENDAR